BEGIN:VCALENDAR
VERSION:2.0
PRODID:-//wp-events-plugin.com//7.2.3.1//EN
TZID:Europe/Berlin
X-WR-TIMEZONE:Europe/Berlin
BEGIN:VEVENT
UID:18@eurojumelages-bonn.de
DTSTART;TZID=Europe/Berlin:20240912T173000
DTEND;TZID=Europe/Berlin:20241219T190000
DTSTAMP:20240823T110240Z
URL:https://www.eurojumelages-bonn.de/sprachkurse/archiv-vakant-e4-englisc
 h-mittelstufe-b1__trashed/
SUMMARY:[Absage] E4 - Englisch Mittelstufe (B1)
DESCRIPTION:Freie Plätze: 9\n\n12 Unterrichtseinheiten [Online]\n(Hinweis:
  Der Kurs startet mit 12 Unterrichtseinheiten. Bei weiterem Interesse kann
  er verlängert werden.)\nMaximale Teilnehmerzahl: 10\n\nKursinfo - Leitun
 g: N. N.\n\n\nDieser Kurs ist gedacht für Teilnehmer\, die bereits Kenntn
 isse der englischen Sprache erworben haben und diese auffrischen und verti
 efen möchten. Auch Personen mit umfassenderen Vorkenntnissen können dies
 e hier wiederholen und erweitern\, um wieder sicherer im Umgang mit dem En
 glischen zu werden. Dabei wird auch der mündlichen Kommunikation viel Rau
 m gegeben. Interessenten\, die ausprobieren möchten\, ob dieser Kurs für
  sie geeignet ist\, können – nach Absprache mit der Dozentin auch im be
 reits laufenden Kurs – an einer Schnupperstunde teilnehmen. Danach wird 
 abgeklärt\, ob eine Teilnahme möglich ist.\n\n 	Preise: siehe "Teilnehme
 rentgelte"\n\n[button link="https://www.eurojumelages-bonn.de/sprachkursan
 meldung/" color="blue" form="round" size="xlarge"]SPRACHKURSANMELDUNG[/but
 ton]\n\nKursbeschreibung\n\n\n 	Grammatik – Zeitformen\; Hilfsverben\; A
 djektiv und Adverb\n 	Themen/Wortschatz – Alltagssituationen\, Reisen\, 
 Begegnungen\,\nHobbies\, etwas Landeskunde\n 	Durchführung: Grundlage bil
 det das Buch mit entsprechendem Übungsmaterial zu Grammatik und Wortschat
 z. Zusätzlich bieten sich viele Anlässe zu freiem Sprechen: regelmäßig
 e Gesprächsrunden\, Diskussionen\, ggf. auch zu aktuellen Themen\, Übung
 en zum Hörverständnis\, Small talk für Alltagssituationen.\n\nKursbuch\
 n\nBrush up B 1 English Refresher\, Kurs- und Arbeitsbuch\, Hueber (ab Mod
 ule 1)\nISBN: 978-3-19-002937-2
CATEGORIES:Englisch
LOCATION:Distanzunterricht\, Online\, Online\, Deutschland
X-APPLE-STRUCTURED-LOCATION;VALUE=URI;X-ADDRESS=Online\, Online\, Deutschla
 nd;X-APPLE-RADIUS=100;X-TITLE=Distanzunterricht:geo:0,0
END:VEVENT
BEGIN:VTIMEZONE
TZID:Europe/Berlin
X-LIC-LOCATION:Europe/Berlin
BEGIN:DAYLIGHT
DTSTART:20240331T030000
TZOFFSETFROM:+0100
TZOFFSETTO:+0200
TZNAME:CEST
END:DAYLIGHT
BEGIN:STANDARD
DTSTART:20241027T020000
TZOFFSETFROM:+0200
TZOFFSETTO:+0100
TZNAME:CET
END:STANDARD
END:VTIMEZONE
END:VCALENDAR