BEGIN:VCALENDAR
VERSION:2.0
PRODID:-//Eurojumelages, Sektion Bonn - ECPv6.15.17//NONSGML v1.0//EN
CALSCALE:GREGORIAN
METHOD:PUBLISH
X-ORIGINAL-URL:https://www.eurojumelages-bonn.de
X-WR-CALDESC:Veranstaltungen für Eurojumelages, Sektion Bonn
REFRESH-INTERVAL;VALUE=DURATION:PT1H
X-Robots-Tag:noindex
X-PUBLISHED-TTL:PT1H
BEGIN:VTIMEZONE
TZID:Europe/Berlin
BEGIN:DAYLIGHT
TZOFFSETFROM:+0100
TZOFFSETTO:+0200
TZNAME:CEST
DTSTART:20220327T010000
END:DAYLIGHT
BEGIN:STANDARD
TZOFFSETFROM:+0200
TZOFFSETTO:+0100
TZNAME:CET
DTSTART:20221030T010000
END:STANDARD
BEGIN:DAYLIGHT
TZOFFSETFROM:+0100
TZOFFSETTO:+0200
TZNAME:CEST
DTSTART:20230326T010000
END:DAYLIGHT
BEGIN:STANDARD
TZOFFSETFROM:+0200
TZOFFSETTO:+0100
TZNAME:CET
DTSTART:20231029T010000
END:STANDARD
BEGIN:DAYLIGHT
TZOFFSETFROM:+0100
TZOFFSETTO:+0200
TZNAME:CEST
DTSTART:20240331T010000
END:DAYLIGHT
BEGIN:STANDARD
TZOFFSETFROM:+0200
TZOFFSETTO:+0100
TZNAME:CET
DTSTART:20241027T010000
END:STANDARD
END:VTIMEZONE
BEGIN:VEVENT
DTSTART;TZID=Europe/Berlin:20231117T180000
DTEND;TZID=Europe/Berlin:20231117T230000
DTSTAMP:20260426T042123
CREATED:20230902T121414Z
LAST-MODIFIED:20250331T105040Z
UID:6651-1700244000-1700262000@www.eurojumelages-bonn.de
SUMMARY:[Archiv] Einladung zum Gänse-Essen der Jumelages am Freitag\, dem 17. November 2023
DESCRIPTION:Die Anmeldung ist geschlossen. \n\n\n\n\n\n\n\nLiebe Jumeleure und Freunde der Jumelages\, \n\n\n\nunser herbstliches Gänse-Essen ist schon zur Tradition geworden\, auch dieses Jahr freuen wir uns auf ein gemütliches Zusammensein. Zum Gänse-Essen ladenwir herzlich ein. \n\n\n\n\nFreitag\, den 17. November 2023\, 18:00 Uhr\n\n\n\nRestaurant Klein-Petersberg\n\n\n\nAustr. 46\, 53179 Bonn\n\n\n\n\nWir starten mit einem Sektempfang.Anschließend wollen wir uns das Gänse-Essen schmecken lassen. \n\n\n\nDer Kostenbeitrag für den Sektempfang und das Gänse-Essen beträgt für Mitglieder 35\,00 € / Gäste 39\,00 €. Alle weiteren Getränke zahlt jeder selbst. \n\n\n\nWichtig: Bei der Anmeldung bitte Angabe ins Nachrichtenfeld\, ob Gänsebrust oder Gänsekeule bzw. à la carte gewünscht wird. \n\n\n\nParkplätze befinden sich in der Nähe des Restaurants. \n\n\n\nÖffentliche VerkehrsmittelDas Restaurant Klein-Petersberg in Bad Godesberg-Mehlem liegt direkt am Rhein nahe der Königswinterer Fähre und ist auch mit öffentlichen Verkehrsmitteln erreichbar. Direkt mit der Linie 612 ab Godesberg Bahnhof bis Haltestelle „Mehlem Fähre“ oder in der Nähe mit dem Zug bzw. den Linien 610 (ab Bonn) oder 613 (ab Godesberg Bhf.) bis Mehlem Bahnhof. \n\n\n\nAnmeldung bitte über unser Anmeldeformular oder telefonisch unter 02241 331920 bei Artur Sperling oder Carola Forst 0228 678109. \n\n\n\nWir freuen uns sehr auf den gemeinsamen Abend und grüßen herzlich. \n\n\n\nDer Vorstand der Sektion Bonn \n\n\n\n(Bild-Quelle: Restaurant Kleinpetersberg) \n\n\n\nDie Anmeldung ist geschlossen.
URL:https://www.eurojumelages-bonn.de/veranstaltung/gaenseessen-17-november-2023/
CATEGORIES:Veranstaltungen
END:VEVENT
END:VCALENDAR