BEGIN:VCALENDAR
VERSION:2.0
PRODID:-//Eurojumelages, Sektion Bonn - ECPv6.15.17//NONSGML v1.0//EN
CALSCALE:GREGORIAN
METHOD:PUBLISH
X-ORIGINAL-URL:https://www.eurojumelages-bonn.de
X-WR-CALDESC:Veranstaltungen für Eurojumelages, Sektion Bonn
REFRESH-INTERVAL;VALUE=DURATION:PT1H
X-Robots-Tag:noindex
X-PUBLISHED-TTL:PT1H
BEGIN:VTIMEZONE
TZID:Europe/Berlin
BEGIN:DAYLIGHT
TZOFFSETFROM:+0100
TZOFFSETTO:+0200
TZNAME:CEST
DTSTART:20230326T010000
END:DAYLIGHT
BEGIN:STANDARD
TZOFFSETFROM:+0200
TZOFFSETTO:+0100
TZNAME:CET
DTSTART:20231029T010000
END:STANDARD
BEGIN:DAYLIGHT
TZOFFSETFROM:+0100
TZOFFSETTO:+0200
TZNAME:CEST
DTSTART:20240331T010000
END:DAYLIGHT
BEGIN:STANDARD
TZOFFSETFROM:+0200
TZOFFSETTO:+0100
TZNAME:CET
DTSTART:20241027T010000
END:STANDARD
BEGIN:DAYLIGHT
TZOFFSETFROM:+0100
TZOFFSETTO:+0200
TZNAME:CEST
DTSTART:20250330T010000
END:DAYLIGHT
BEGIN:STANDARD
TZOFFSETFROM:+0200
TZOFFSETTO:+0100
TZNAME:CET
DTSTART:20251026T010000
END:STANDARD
END:VTIMEZONE
BEGIN:VEVENT
DTSTART;TZID=Europe/Berlin:20240218T120000
DTEND;TZID=Europe/Berlin:20240218T150000
DTSTAMP:20260425T233703
CREATED:20231127T201458Z
LAST-MODIFIED:20241103T152830Z
UID:7057-1708257600-1708268400@www.eurojumelages-bonn.de
SUMMARY:[Archiv] Neujahrsempfang 2024
DESCRIPTION:Die Anmeldung wurde geschlossen. \n\n\n\n(Quelle: pixabay.com\, johnnyberg)\n\n\n\nLiebe Jumeleure und Freunde der Eurojumelages\, \n\n\n\nwie bereits angekündigt\, wollen wir auch 2024 bei einer Neujahrsveranstaltung gemeinsam auf das neue Jahr anstoßen. Zu diesem Anlass haben wir uns ein besonderes Highlight einfallen lassen. Ein Flying Brunch in Clostermanns Restaurant in Niederkassel. Flying Brunch ist eine eigene Neuinterpretation des „klassischen“ Sonntagsbrunch. Beim Flying Brunch gibt es kein Buffett\, sondern es werden zahlreiche Köstlichkeiten an den Tisch gebracht\, sodass es an nichts fehlt und wir in Ruhe genießen können. \n\n\n\n\nSonntag\, 18. Februar 2024\, 12:00 bis 15:00 Uhr\n\n\n\nHotel Clostermanns Hof \n\n\n\nHeerstrasse 2a\, 53859 Niederkassel-Uckendorf (Anfahrt)\n\n\n\n\nDer Kostenbeitrag für das Flying Brunch inkl. Orangensaft\, Kaffeespezialitäten sowie einem Glas Sekt beträgt für Mitglieder 39\,00 € und für Gäste 45\,00 €. Die übrigen Getränke zahlt jeder selbst. \n\n\n\nDas Restaurant in Niederkassel ist mit dem Pkw in ca. 20 Minuten ab Innenstadt Köln und Bonn erreichbar. \n\n\n\nParkplätze sind ausreichend vor dem Hotel und an der angrenzenden Golfanlage vorhanden. \n\n\n\nWir freuen uns auf angenehme und unterhaltsame Stunden. \n\n\n\nDer Vorstand der Eurojumelages Bonn \n\n\n\nEvtl. Rückfragen zur Veranstaltung bitte direkt an: brigitte.bilgmann@eurojumelages-bonn.de oder telefonisch unter 0171 5665600. \n\n\n\nAnmeldeformular\n\n\n\nDie Anmeldung ist geschlossen.
URL:https://www.eurojumelages-bonn.de/veranstaltung/neujahrsempfang-2024/
CATEGORIES:Veranstaltungen
END:VEVENT
END:VCALENDAR