BEGIN:VCALENDAR
VERSION:2.0
PRODID:-//Eurojumelages, Sektion Bonn - ECPv6.15.17//NONSGML v1.0//EN
CALSCALE:GREGORIAN
METHOD:PUBLISH
X-ORIGINAL-URL:https://www.eurojumelages-bonn.de
X-WR-CALDESC:Veranstaltungen für Eurojumelages, Sektion Bonn
REFRESH-INTERVAL;VALUE=DURATION:PT1H
X-Robots-Tag:noindex
X-PUBLISHED-TTL:PT1H
BEGIN:VTIMEZONE
TZID:Europe/Berlin
BEGIN:DAYLIGHT
TZOFFSETFROM:+0100
TZOFFSETTO:+0200
TZNAME:CEST
DTSTART:20230326T010000
END:DAYLIGHT
BEGIN:STANDARD
TZOFFSETFROM:+0200
TZOFFSETTO:+0100
TZNAME:CET
DTSTART:20231029T010000
END:STANDARD
BEGIN:DAYLIGHT
TZOFFSETFROM:+0100
TZOFFSETTO:+0200
TZNAME:CEST
DTSTART:20240331T010000
END:DAYLIGHT
BEGIN:STANDARD
TZOFFSETFROM:+0200
TZOFFSETTO:+0100
TZNAME:CET
DTSTART:20241027T010000
END:STANDARD
BEGIN:DAYLIGHT
TZOFFSETFROM:+0100
TZOFFSETTO:+0200
TZNAME:CEST
DTSTART:20250330T010000
END:DAYLIGHT
BEGIN:STANDARD
TZOFFSETFROM:+0200
TZOFFSETTO:+0100
TZNAME:CET
DTSTART:20251026T010000
END:STANDARD
END:VTIMEZONE
BEGIN:VEVENT
DTSTART;TZID=Europe/Berlin:20240524T160000
DTEND;TZID=Europe/Berlin:20240524T180000
DTSTAMP:20260425T190217
CREATED:20240416T085109Z
LAST-MODIFIED:20240530T140330Z
UID:8056-1716566400-1716573600@www.eurojumelages-bonn.de
SUMMARY:[Archiv] Besuch Arp Museum Rolandseck am Freitag\, dem 24. Mai 2024
DESCRIPTION:Die Online-Anmeldung ist geschlossen. \n\n\n\nLiebe Jumeleure und Freunde der Jumelages\, \n\n\n\nes ist an der Zeit\, wieder einmal das Arp Museum – Bahnhof Rolandseck – in Remagen zu besuchen. \n\n\n\n\nFreitag\, den 24. Mai 2024\, 16:00 Uhr\n\n\n\nArp Museum Bahnhof Rolandseck\n\n\n\nHans-Arp-Allee 1\n\n\n\n53424 Remagen\n\n\n\nTreffpunkt: Kasse  im Foyer des Bahnhofs\n\n\n\n\nWir werden an einer 90minütigen Führung teilnehmen: „Maestras – Malerinnen – 1500-1900“„Die Ausstellung präsentiert nicht nur die in ihrer Zeit gefeierten Künstlerinnen wie Artemisa Gentileschi\, Elisabeth Vigée-Le Brun oder Mary Cassat sondern auch neu zu entdeckende Meisterinnen. Das Arp Museum zeigt in Kooperation mit dem Museo Nacional Thyssen-Bornemisza in Madrid eine umfassende Schau mit Arbeiten von 51 Malerinnen aus bedeutenden europäischen Museen und Privatsammlungen.“ \n\n\n\nKostenbeitrag für Eintritt und 90minütige Führung 9\,00 € für Mitglieder und Gäste. \n\n\n\nAnfahrt Bahn: Hinfahrt ab Bonn 15:27 Uhr\, an Bahnhof Rolandseck 15:40 Uhr\, Rückfahrt ab Bahnhof Rolandseck 18:18 Uhr\, danach alle 60 Minuten. Technische Probleme beinträchtigen jedoch den Zugverkehr\, daher vorher informieren! \n\n\n\nMit dem Pkw: Anfahrt über B 9\, Parkplätze vor dem Museum und auf der gegenüberliegenden Straßenseite. \n\n\n\nAnmeldungen bitte über das Anmeldeformular oder telefonisch bei Artur Sperling: 02241 331920. \n\n\n\nWir freuen uns auf Ihre Teilnahme. \n\n\n\nArtur Sperling\, Ehrenvorsitzender \n\n\n\nAnmeldeformular\n\n\n\nDie Online-Anmeldung ist geschlossen.
URL:https://www.eurojumelages-bonn.de/veranstaltung/besuch-arp-museum-rolandseck-am-freitag-dem-24-mai-2024/
CATEGORIES:Veranstaltungen
END:VEVENT
END:VCALENDAR