BEGIN:VCALENDAR
VERSION:2.0
PRODID:-//Eurojumelages, Sektion Bonn - ECPv6.15.17//NONSGML v1.0//EN
CALSCALE:GREGORIAN
METHOD:PUBLISH
X-ORIGINAL-URL:https://www.eurojumelages-bonn.de
X-WR-CALDESC:Veranstaltungen für Eurojumelages, Sektion Bonn
REFRESH-INTERVAL;VALUE=DURATION:PT1H
X-Robots-Tag:noindex
X-PUBLISHED-TTL:PT1H
BEGIN:VTIMEZONE
TZID:Europe/Berlin
BEGIN:DAYLIGHT
TZOFFSETFROM:+0100
TZOFFSETTO:+0200
TZNAME:CEST
DTSTART:20230326T010000
END:DAYLIGHT
BEGIN:STANDARD
TZOFFSETFROM:+0200
TZOFFSETTO:+0100
TZNAME:CET
DTSTART:20231029T010000
END:STANDARD
BEGIN:DAYLIGHT
TZOFFSETFROM:+0100
TZOFFSETTO:+0200
TZNAME:CEST
DTSTART:20240331T010000
END:DAYLIGHT
BEGIN:STANDARD
TZOFFSETFROM:+0200
TZOFFSETTO:+0100
TZNAME:CET
DTSTART:20241027T010000
END:STANDARD
BEGIN:DAYLIGHT
TZOFFSETFROM:+0100
TZOFFSETTO:+0200
TZNAME:CEST
DTSTART:20250330T010000
END:DAYLIGHT
BEGIN:STANDARD
TZOFFSETFROM:+0200
TZOFFSETTO:+0100
TZNAME:CET
DTSTART:20251026T010000
END:STANDARD
END:VTIMEZONE
BEGIN:VEVENT
DTSTART;TZID=Europe/Berlin:20240609T113000
DTEND;TZID=Europe/Berlin:20240609T170000
DTSTAMP:20260425T173724
CREATED:20240403T170103Z
LAST-MODIFIED:20240609T112711Z
UID:7941-1717932600-1717952400@www.eurojumelages-bonn.de
SUMMARY:[Archiv] Sommerfest/Jubiläumsfeier 2024
DESCRIPTION:Alle Anmeldemöglichkeiten sind geschlossen. \n\n\n\nLiebe Jumeleure und Freunde der Jumelages\, \n\n\n\ndie Eurojumelages Bonn freut sich\, dich und deine Freunde zu unserem diesjährigen Sommerfest und gleichzeitig zum 40-jährigen Jubiläum der Sektion Bonn einzuladen. \n\n\n\nWir treffen uns am \n\n\n\n\nSonntag\, dem 9. Juni 2024\, 11.30 Uhr\,\n\n\n\nin der Burg Niederpleis\, Langstraße 1\n\n\n\n53757 Sankt Augustin\n\n\n\nwww.burg-niederpleis.de\n\n\n\n\nIn der Burg Niederpleis sind wir umgeben von Spargel- und Erdbeerfeldern der Familie Nordhorn. Im angrenzenden Hofladen besteht die Möglichkeit\, aus dem reichhaltigen Obst- und Gemüseangebot an diesem Tag auch einzukaufen. \n\n\n\nWir starten unser Beisammensein mit einem kleinen Umtrunk. Es werden ein Gläschen Burgsekt und Apfel- Quitte Secco (alkoholfrei) serviert. \n\n\n\nBegleitet von einer kleinen musikalischen Darbietung der Musikschule Sankt Augustin. \n\n\n\nDanach können wir das reichhaltige Spargelbuffet in gemütlicher Atmosphäre gemeinsam genießen: \n\n\n\n\nVorspeise:Spargelcremesuppe vom weißen Spargel\n\n\n\nHauptgericht:Frischer Stangenspargel von den Feldern der Burg Niederpleismit Petersilienkartoffeln\, Dreierlei Schinken\, Sauce Hollandaise & zerlassene Butter\n\n\n\nDessert:Frische Erdbeeren mit Vanilleeis oder Sahne\n\n\n\n\n„satt“ es wird solange serviert bis jeder „satt“ ist! \n\n\n\nZur Abrundung bieten wir als besonderen Genuss eine spezielle Jubiläumstorte an. \n\n\n\nDer Kostenbeitrag für den Sektempfang\, das Spargelbuffet und Dessert beträgt für \n\n\n\n\n\n\nMitglieder\n\n\n\nGäste\n\n\n\n\n\n\n38\,00 Euro40\,00 Euro \n\n\n\n\n\nDie übrigen Getränke bezahlt jeder selbst. \n\n\n\nAusreichend Parkplätze auf dem Gelände der Burg vorhanden. \n\n\n\nAnmeldung über das Anmeldeformular oder telefonisch 02241 333665 bzw.  0171 5665600 bei Brigitte Bilgmann \n\n\n\nWir freuen uns auf angenehme und unterhaltsame Stunden. \n\n\n\nDer Vorstand der Eurojumelages Bonn \n\n\n\nAnmeldeformular\n\n\n\nAlle Anmeldemöglichkeiten sind geschlossen.
URL:https://www.eurojumelages-bonn.de/veranstaltung/sommerfest-jubilaeumsfeier-2024/
CATEGORIES:Highlight
END:VEVENT
END:VCALENDAR