BEGIN:VCALENDAR
VERSION:2.0
PRODID:-//Eurojumelages, Sektion Bonn - ECPv6.15.17//NONSGML v1.0//EN
CALSCALE:GREGORIAN
METHOD:PUBLISH
X-ORIGINAL-URL:https://www.eurojumelages-bonn.de
X-WR-CALDESC:Veranstaltungen für Eurojumelages, Sektion Bonn
REFRESH-INTERVAL;VALUE=DURATION:PT1H
X-Robots-Tag:noindex
X-PUBLISHED-TTL:PT1H
BEGIN:VTIMEZONE
TZID:Europe/Berlin
BEGIN:DAYLIGHT
TZOFFSETFROM:+0100
TZOFFSETTO:+0200
TZNAME:CEST
DTSTART:20230326T010000
END:DAYLIGHT
BEGIN:STANDARD
TZOFFSETFROM:+0200
TZOFFSETTO:+0100
TZNAME:CET
DTSTART:20231029T010000
END:STANDARD
BEGIN:DAYLIGHT
TZOFFSETFROM:+0100
TZOFFSETTO:+0200
TZNAME:CEST
DTSTART:20240331T010000
END:DAYLIGHT
BEGIN:STANDARD
TZOFFSETFROM:+0200
TZOFFSETTO:+0100
TZNAME:CET
DTSTART:20241027T010000
END:STANDARD
BEGIN:DAYLIGHT
TZOFFSETFROM:+0100
TZOFFSETTO:+0200
TZNAME:CEST
DTSTART:20250330T010000
END:DAYLIGHT
BEGIN:STANDARD
TZOFFSETFROM:+0200
TZOFFSETTO:+0100
TZNAME:CET
DTSTART:20251026T010000
END:STANDARD
END:VTIMEZONE
BEGIN:VEVENT
DTSTART;TZID=Europe/Berlin:20240712T150000
DTEND;TZID=Europe/Berlin:20240712T180000
DTSTAMP:20260425T155903
CREATED:20240606T191749Z
LAST-MODIFIED:20240712T182009Z
UID:8241-1720796400-1720807200@www.eurojumelages-bonn.de
SUMMARY:[Archiv] Führung im Wallraf-Richartz-Museum am 12. Juli 2024
DESCRIPTION:Die Online-Anmeldung ist geschlossen. \n\n\n\nAn alle Jumeleure und Freunde der Jumelages\, \n\n\n\nnach unserem gemeinsamen Besuch im Arp Museum – Bahnhof Rolandseck – geben wir euch diesmal die Gelegenheit das Wallraf-Richartz-Museum in Köln zu besuchen. \n\n\n\n\nFreitag\, den 12. Juli 2024\, 15:15 Uhr bis 16:30 Uhr\n\n\n\nWallraf-Richartz-Museum\n\n\n\nObenmarspforten / Am Kölner Rathaus\n\n\n\n50667 Köln\n\n\n\nTreffpunkt: 15:00 Uhr im Foyer des Museums\n\n\n\n\nWir werden an einer 60minütigen Führung teilnehmen: „Paris 1874: Revolution in der Kunst. Vom Salon zum Impressionismus“. \n\n\n\nKaum ein Ort und eine Zeit haben die Kunstgeschichte so beeinflusst wie das Paris von 1874\, denn hier fand vor knapp 150 Jahren die erste Ausstellung der später weltberühmten Impressionisten wie Degas\, Morisot\, Monet\, Renoir und Sisley statt. \n\n\n\nMit seiner großen Ausstellung zeichnet das Kölner Museum den spannenden Weg der französischen Malerei nach und präsentiert ein faszinierendes Panorama an Künstlern\, Stilrichtungen\, Gattungen und Motiven. \n\n\n\nKostenbeitrag für Eintritt und 60minütige Führung 16\,00 € für Mitglieder und Gäste. \n\n\n\nDie maximale Teilnehmerzahl ist auf 20 Personen begrenzt. \n\n\n\nNach der Führung ist noch Zeit für Kaffee und Kuchen. Das Café & Restaurant Ludwig im Museum hat bis 18:00 Uhr geöffnet. \n\n\n\nAnmeldungen bitte direkt über das Anmeldeformular. \n\n\n\nWir freuen uns auf Ihre Teilnahme. \n\n\n\nDer Vorstand der Eurojumelages Bonn \n\n\n\n(Text-Quelle: EuroJD Sektion Bonn / Wallraf-Richartz-Museum Köln) \n\n\n\nAnmeldeformular\n\n\n\nDie Online-Anmeldung ist geschlossen.
URL:https://www.eurojumelages-bonn.de/veranstaltung/fuehrung-im-wallraf-richartz-museum-am-12-07-2024/
CATEGORIES:Veranstaltungen
END:VEVENT
END:VCALENDAR