BEGIN:VCALENDAR
VERSION:2.0
PRODID:-//Eurojumelages, Sektion Bonn - ECPv6.15.17//NONSGML v1.0//EN
CALSCALE:GREGORIAN
METHOD:PUBLISH
X-ORIGINAL-URL:https://www.eurojumelages-bonn.de
X-WR-CALDESC:Veranstaltungen für Eurojumelages, Sektion Bonn
REFRESH-INTERVAL;VALUE=DURATION:PT1H
X-Robots-Tag:noindex
X-PUBLISHED-TTL:PT1H
BEGIN:VTIMEZONE
TZID:Europe/Berlin
BEGIN:DAYLIGHT
TZOFFSETFROM:+0100
TZOFFSETTO:+0200
TZNAME:CEST
DTSTART:20230326T010000
END:DAYLIGHT
BEGIN:STANDARD
TZOFFSETFROM:+0200
TZOFFSETTO:+0100
TZNAME:CET
DTSTART:20231029T010000
END:STANDARD
BEGIN:DAYLIGHT
TZOFFSETFROM:+0100
TZOFFSETTO:+0200
TZNAME:CEST
DTSTART:20240331T010000
END:DAYLIGHT
BEGIN:STANDARD
TZOFFSETFROM:+0200
TZOFFSETTO:+0100
TZNAME:CET
DTSTART:20241027T010000
END:STANDARD
BEGIN:DAYLIGHT
TZOFFSETFROM:+0100
TZOFFSETTO:+0200
TZNAME:CEST
DTSTART:20250330T010000
END:DAYLIGHT
BEGIN:STANDARD
TZOFFSETFROM:+0200
TZOFFSETTO:+0100
TZNAME:CET
DTSTART:20251026T010000
END:STANDARD
END:VTIMEZONE
BEGIN:VEVENT
DTSTART;TZID=Europe/Berlin:20240913T170000
DTEND;TZID=Europe/Berlin:20240913T200000
DTSTAMP:20260425T130128
CREATED:20240703T194001Z
LAST-MODIFIED:20240913T082252Z
UID:8651-1726246800-1726257600@www.eurojumelages-bonn.de
SUMMARY:[Archiv) Abschlussaufführung Chorsingen Neuwied-Engers 13. September 2024
DESCRIPTION:Die Anmeldung ist geschlossen. \n\n\n\nMitte September veranstaltet die Eurojumelages ein internationales Chorsingen in Neuwied mit Teilnehmerinnen und Teilnehmern aus mehreren europäischen Ländern. \n\n\n\nZum Abschluss bietet uns dieser gemischte Chor am 13. September 2024 um 17:00 Uhr eine musikalische Aufführung\, zu der Gäste willkommen sind. Unter anderem werden wir uns an der Eurojumelages-Hymne erfreuen können. Anschließend gibt es bei leckerem Fingerfood ausreichend Gelegenheit\, den Abend gemeinsam im wahrsten Sinne des Wortes ausklingen zu lassen. \n\n\n\nOrt: Landesmusikakademie von Rheinland-Pfalz\, Schloss Engers\, 56566 Neuwied-Engers (Anfahrt) \n\n\n\nAuch die Bonner Jumeleurinnen und Jumeleure – nebst Mitglieder der Nachbarsektionen – sind recht herzlich eingeladen. \n\n\n\nAnstelle eines Beitrages wird um eine Spende gebeten (kleine Box wird vor Ort aufgestellt) \n\n\n\nSie erwartet: \n\n\n\n\nGlas Winzersekt zur Begrüßung\n\n\n\nAbschluss-Präsentation des internationalen Chores zusammen mit dem Duo W (Katharina Wimmer\, Violine / Ingrid Wendel\, Klavier)\n\n\n\nIm Anschluss gemütliches Beisammensein mit leckerem Fingerfood(Getränke zu günstigen Preisen zahlt jeder selbst.)\n\n\n\n\nDie Anmeldung ist geschlossen. \n\n\n\nAnmeldeformular
URL:https://www.eurojumelages-bonn.de/veranstaltung/abschlussauffuehrung-chorsingen-neuwied-13-september-2024/
CATEGORIES:Veranstaltungen
END:VEVENT
END:VCALENDAR