BEGIN:VCALENDAR
VERSION:2.0
PRODID:-//Eurojumelages, Sektion Bonn - ECPv6.15.17//NONSGML v1.0//EN
CALSCALE:GREGORIAN
METHOD:PUBLISH
X-ORIGINAL-URL:https://www.eurojumelages-bonn.de
X-WR-CALDESC:Veranstaltungen für Eurojumelages, Sektion Bonn
REFRESH-INTERVAL;VALUE=DURATION:PT1H
X-Robots-Tag:noindex
X-PUBLISHED-TTL:PT1H
BEGIN:VTIMEZONE
TZID:Europe/Berlin
BEGIN:DAYLIGHT
TZOFFSETFROM:+0100
TZOFFSETTO:+0200
TZNAME:CEST
DTSTART:20240331T010000
END:DAYLIGHT
BEGIN:STANDARD
TZOFFSETFROM:+0200
TZOFFSETTO:+0100
TZNAME:CET
DTSTART:20241027T010000
END:STANDARD
BEGIN:DAYLIGHT
TZOFFSETFROM:+0100
TZOFFSETTO:+0200
TZNAME:CEST
DTSTART:20250330T010000
END:DAYLIGHT
BEGIN:STANDARD
TZOFFSETFROM:+0200
TZOFFSETTO:+0100
TZNAME:CET
DTSTART:20251026T010000
END:STANDARD
BEGIN:DAYLIGHT
TZOFFSETFROM:+0100
TZOFFSETTO:+0200
TZNAME:CEST
DTSTART:20260329T010000
END:DAYLIGHT
BEGIN:STANDARD
TZOFFSETFROM:+0200
TZOFFSETTO:+0100
TZNAME:CET
DTSTART:20261025T010000
END:STANDARD
END:VTIMEZONE
BEGIN:VEVENT
DTSTART;TZID=Europe/Berlin:20250524T140000
DTEND;TZID=Europe/Berlin:20250524T163000
DTSTAMP:20260425T004754
CREATED:20250107T112000Z
LAST-MODIFIED:20250524T183037Z
UID:9200-1748095200-1748104200@www.eurojumelages-bonn.de
SUMMARY:[Archiv] Werkstatt-Führung in der Klais Orgelbau GmbH
DESCRIPTION:Die Online-Anmeldung ist geschlossen. \n\n\n\n\n\n\n\nAn alle Jumeleure und Freunde der Jumelages\, \n\n\n\nob Atlanta\, Brisbane\, Peking – Hauptsache Bonn. Besuch beim Hidden Champion des Orgelbaus in der Bonner Nordstadt. Ob die Orgel in der Elbphilharmonie oder Bambus-Orgeln auf den Philippinen\, Klais fabriziert Ohrenschmaus von Weltklasse\, den wir mit seinen Ursprüngen hautnah erleben können. \n\n\n\nWir laden hiermit zu einer 2 bis 2 1/2 stündigen Führung herzlich ein. \n\n\n\n\nSamstag\, den 24. Mai 2025\, 14:00 bis 16:30 Uhr\n\n\n\nJohannes Klais Orgelbau GmbH & Co. KG\n\n\n\nKölnstraße 148\, 5311 Bonn (Anfahrt)\n\n\n\n\nKostenbeitrag für die Führung: 15\,00 € pro Person \n\n\n\nMaximal 20 Personen in 2 Gruppen \n\n\n\nWeitere Details wie Treffpunkt u. a. werden rechtzeitig bekannt gegeben. \n\n\n\nAnmeldungen bitte direkt über das Anmeldeformular. \n\n\n\nEvtl. Rückfragen zur Veranstaltung bitte an:Simone.Flach@eurojumelages.eu oder telefonisch unter 015905080961. \n\n\n\nWir freuen uns auf Eure Teilnahme. \n\n\n\nDer Vorstand der Eurojumelages Bonn \n\n\n\n(Bild-/Text-Quelle: Johannes Klais Orgelbau GmbH & Co. KG / EuroJD Sektion Bonn) \n\n\n\nDie Online-Anmeldung ist geschlossen. \n\n\n\nAnmeldeformular
URL:https://www.eurojumelages-bonn.de/veranstaltung/werkstatt-fuehrung-in-der-klais-orgelbau-gmbh/
END:VEVENT
END:VCALENDAR