BEGIN:VCALENDAR
VERSION:2.0
PRODID:-//Eurojumelages, Sektion Bonn - ECPv6.15.17//NONSGML v1.0//EN
CALSCALE:GREGORIAN
METHOD:PUBLISH
X-ORIGINAL-URL:https://www.eurojumelages-bonn.de
X-WR-CALDESC:Veranstaltungen für Eurojumelages, Sektion Bonn
REFRESH-INTERVAL;VALUE=DURATION:PT1H
X-Robots-Tag:noindex
X-PUBLISHED-TTL:PT1H
BEGIN:VTIMEZONE
TZID:Europe/Berlin
BEGIN:DAYLIGHT
TZOFFSETFROM:+0100
TZOFFSETTO:+0200
TZNAME:CEST
DTSTART:20240331T010000
END:DAYLIGHT
BEGIN:STANDARD
TZOFFSETFROM:+0200
TZOFFSETTO:+0100
TZNAME:CET
DTSTART:20241027T010000
END:STANDARD
BEGIN:DAYLIGHT
TZOFFSETFROM:+0100
TZOFFSETTO:+0200
TZNAME:CEST
DTSTART:20250330T010000
END:DAYLIGHT
BEGIN:STANDARD
TZOFFSETFROM:+0200
TZOFFSETTO:+0100
TZNAME:CET
DTSTART:20251026T010000
END:STANDARD
BEGIN:DAYLIGHT
TZOFFSETFROM:+0100
TZOFFSETTO:+0200
TZNAME:CEST
DTSTART:20260329T010000
END:DAYLIGHT
BEGIN:STANDARD
TZOFFSETFROM:+0200
TZOFFSETTO:+0100
TZNAME:CET
DTSTART:20261025T010000
END:STANDARD
END:VTIMEZONE
BEGIN:VEVENT
DTSTART;TZID=Europe/Berlin:20250709T000000
DTEND;TZID=Europe/Berlin:20250713T235959
DTSTAMP:20260424T212841
CREATED:20250201T134227Z
LAST-MODIFIED:20250710T121936Z
UID:9529-1752019200-1752451199@www.eurojumelages-bonn.de
SUMMARY:[Archiv] Einladung nach Nancy vom 9. bis 13. Juli 2025
DESCRIPTION:Liebe Jumeleure und Freunde der Jumelages\, \n\n\n\nunsere Freunde der Jumelages in Paris\, Bourges und Châlons-en-Champagne\, Frankreich\, haben uns zu einem Besuch nach Nancy eingeladen. Entdeckt mit uns die Stadt Nancy mit ihrer großen Anzahl an historischen Denkmälern und Toren sowie ihren 3 Plätzen\, die zum UNESCO-Weltkulturerbe gehören. Darunter der berühmte Place Stanislas. Nancy ist die Stadt der Kunst und eine der europäischen Wiegen des Jugendstils. \n\n\n\nTermin:  09.07.-13.07.2025\n\n\n\nEin sehr interessantes Programm erwartet uns: \n\n\n\n\nStadtführung  (in französischer und deutscher Sprache) durch das historische Zentrum\n\n\n\nMUSEE DES BEAUX ARTS (Museum der schönen Künste)\n\n\n\nMUSEE DE L’ART NOUVEAU (Jugendstil-Museum)\n\n\n\nBesuch im Parc de la Pépinière\n\n\n\nTon- und Lichtshow auf dem  PLACE STANISLAS\n\n\n\nAquarium de Nancy\n\n\n\n\nPreise: \n\n\n\n\n475\,00 € im Doppelzimmer\n\n\n\n615\,00 € im Einzelzimmer\n\n\n\n\nIm Preis enthalten sind folgende Leistungen:Hotel mit Frühstück\,  Mittag und Abendessen (ohne Getränke)\, Eintrittskarten für Museen und Führungen. \n\n\n\nDie Online-Anmeldung wurde geschlossen.\n\n\n\nBei der Anmeldung bis 25.03.2025 ist eine Anzahlung von 250\,00 € erforderlich. Die Restzahlung bitten wir bis zum  23.05.2025 zu überweisen. \n\n\n\nKonto:  Eurojumelages Bonn\,  IBAN: DE48 37010050 0009 2125 09 bei der Postbank Köln \n\n\n\nStornierungsbedingungen:  Die Stornierung ist bis zum 1. April 2025 kostenfrei.Nach dem 01.04.2025 werden folgende Stornokosten berechnet:  02. 04.-01.06.2025: 150\,00 €.02.-15.06.2025: 225.00 €. 16. 06.  bis zum 1. Tag der Anreise:  400\,00 €.Der Abschluss einer eigenen Reiserücktrittsversicherung wird empfohlen. \n\n\n\nAnsprechpartnerin: Helga Kroll\, E-Mail: Helga.Kroll@eurojumelages.de\, Tel: 0162 9855829 \n\n\n\n(Bild-Quelle: EuroJD Sektion Bonn / François Meyer Armorial des communes de Meurthe et Moselle / pixabay.com Soudier_P / pixabay.com DietArt)
URL:https://www.eurojumelages-bonn.de/veranstaltung/einladung-nach-nancy-vom-9-bis-13-juli-2025/
CATEGORIES:Highlight
END:VEVENT
END:VCALENDAR