BEGIN:VCALENDAR
VERSION:2.0
PRODID:-//Eurojumelages, Sektion Bonn - ECPv6.15.17//NONSGML v1.0//EN
CALSCALE:GREGORIAN
METHOD:PUBLISH
X-ORIGINAL-URL:https://www.eurojumelages-bonn.de
X-WR-CALDESC:Veranstaltungen für Eurojumelages, Sektion Bonn
REFRESH-INTERVAL;VALUE=DURATION:PT1H
X-Robots-Tag:noindex
X-PUBLISHED-TTL:PT1H
BEGIN:VTIMEZONE
TZID:Europe/Berlin
BEGIN:DAYLIGHT
TZOFFSETFROM:+0100
TZOFFSETTO:+0200
TZNAME:CEST
DTSTART:20240331T010000
END:DAYLIGHT
BEGIN:STANDARD
TZOFFSETFROM:+0200
TZOFFSETTO:+0100
TZNAME:CET
DTSTART:20241027T010000
END:STANDARD
BEGIN:DAYLIGHT
TZOFFSETFROM:+0100
TZOFFSETTO:+0200
TZNAME:CEST
DTSTART:20250330T010000
END:DAYLIGHT
BEGIN:STANDARD
TZOFFSETFROM:+0200
TZOFFSETTO:+0100
TZNAME:CET
DTSTART:20251026T010000
END:STANDARD
BEGIN:DAYLIGHT
TZOFFSETFROM:+0100
TZOFFSETTO:+0200
TZNAME:CEST
DTSTART:20260329T010000
END:DAYLIGHT
BEGIN:STANDARD
TZOFFSETFROM:+0200
TZOFFSETTO:+0100
TZNAME:CET
DTSTART:20261025T010000
END:STANDARD
END:VTIMEZONE
BEGIN:VEVENT
DTSTART;TZID=Europe/Berlin:20250817T130000
DTEND;TZID=Europe/Berlin:20250817T180000
DTSTAMP:20260424T195637
CREATED:20250520T172423Z
LAST-MODIFIED:20250907T072004Z
UID:9719-1755435600-1755453600@www.eurojumelages-bonn.de
SUMMARY:[Archiv] Sommerfest 2025
DESCRIPTION:Alle Anmeldemöglichkeiten sind geschlossen. \n\n\n\n\n\n\n\nLiebe Jumeleure und Freunde der Jumelages\, \n\n\n\ndie Eurojumelages Bonn freut sich\, Sie und Ihre Freunde zu unserem diesjährigen Sommerfest einzuladen. Gefeiert wird dieses Jahr in dem historischen und pittoresken Schlosshotel Kommende Ramersdorf. \n\n\n\nWir treffen uns am \n\n\n\n\nSonntag\, den 17. August 2025\, 13:00 Uhr\,\n\n\n\nim Schlosshotel Kommende Ramersdorf\n\n\n\nOberkasseler Str. 10\, 53227 Bonn(Ausreichend Parkplätze sind vor dem Schloss vorhanden.)\n\n\n\n\nNach einem Glas Prosecco oder Orangensaft werden wir das italienische Buffet in gemütlicher Atmosphäre gemeinsam genießen. \n\n\n\nVorspeisen:Vitello Tonnato ClassicoParmigiana melanzaneTomate mit Büffel MozzarellaGrillgemüse \n\n\n\nHauptgerichte:Fagottini in SalbeibutterPenne ArrabiataTortellini gefüllt mit Spinat und RicottaKalbsbraten mit Rosmarin JusKartoffel GratinGemüse der Saison \n\n\n\nNachspeisen:Panna Cotta an FruchtsauceTiramisu mit PistazienFrischer Obstsalat \n\n\n\nDer Kostenbeitrag für den Sektempfang und das italienische Buffet beträgt für beträgt für \n\n\n\n\nMitglieder           49\,00 €\n\n\n\nGäste                      55\,00 €*)\n\n\n\n\nDie übrigen Getränke bezahlt jeder selbst. \n\n\n\nAnmeldung über das Anmeldeformular oder telefonisch 02241 333665 bzw. 0171 5665600 bei Brigitte Bilgmann. \n\n\n\nWir freuen uns auf angenehme und unterhaltsame Stunden. \n\n\n\nDer Vorstand der Eurojumelages Sektion Bonn \n\n\n\n*) Bei Eintritt des Gastes in die Eurojumelages Sektion Bonn verringert sich der Betrag selbstverständlich auf 49\,00 €. \n\n\n\n(Bild-/Text-Quelle: Brigitte und Günter Bilgmann / EuroJD Sektion Bonn) \n\n\n\nAnmeldeformular
URL:https://www.eurojumelages-bonn.de/veranstaltung/sommerfest-2025/
CATEGORIES:Highlight
END:VEVENT
END:VCALENDAR