BEGIN:VCALENDAR
VERSION:2.0
PRODID:-//Eurojumelages, Sektion Bonn - ECPv6.15.17//NONSGML v1.0//EN
CALSCALE:GREGORIAN
METHOD:PUBLISH
X-ORIGINAL-URL:https://www.eurojumelages-bonn.de
X-WR-CALDESC:Veranstaltungen für Eurojumelages, Sektion Bonn
REFRESH-INTERVAL;VALUE=DURATION:PT1H
X-Robots-Tag:noindex
X-PUBLISHED-TTL:PT1H
BEGIN:VTIMEZONE
TZID:Europe/Berlin
BEGIN:DAYLIGHT
TZOFFSETFROM:+0100
TZOFFSETTO:+0200
TZNAME:CEST
DTSTART:20240331T010000
END:DAYLIGHT
BEGIN:STANDARD
TZOFFSETFROM:+0200
TZOFFSETTO:+0100
TZNAME:CET
DTSTART:20241027T010000
END:STANDARD
BEGIN:DAYLIGHT
TZOFFSETFROM:+0100
TZOFFSETTO:+0200
TZNAME:CEST
DTSTART:20250330T010000
END:DAYLIGHT
BEGIN:STANDARD
TZOFFSETFROM:+0200
TZOFFSETTO:+0100
TZNAME:CET
DTSTART:20251026T010000
END:STANDARD
BEGIN:DAYLIGHT
TZOFFSETFROM:+0100
TZOFFSETTO:+0200
TZNAME:CEST
DTSTART:20260329T010000
END:DAYLIGHT
BEGIN:STANDARD
TZOFFSETFROM:+0200
TZOFFSETTO:+0100
TZNAME:CET
DTSTART:20261025T010000
END:STANDARD
END:VTIMEZONE
BEGIN:VEVENT
DTSTART;TZID=Europe/Berlin:20251121T180000
DTEND;TZID=Europe/Berlin:20251121T220000
DTSTAMP:20260424T151055
CREATED:20251015T105118Z
LAST-MODIFIED:20260214T202337Z
UID:9736-1763748000-1763762400@www.eurojumelages-bonn.de
SUMMARY:[Archiv] Einladung zum Gänse-Essen der Eurojumelages Deutschland\, Sektion Bonn\, am Freitag\, den 21. November 2025
DESCRIPTION:Die Online-Anmeldung wurde geschlossen. \n\n\n\nLiebe Jumeleure und Freunde der Jumelages\, \n\n\n\ndie Gänsezeit steht kurz bevor. Bald steht die Martinsgans wieder auf der Speisekarte\, obwohl steigende Kosten den Gastronomen und Züchtern den Umgang mit dem traditionellen Festschmaus schwer machen. Das Parkrestaurant Rheinaue will auch in diesem Jahr nicht darauf verzichten\, das traditionelle Gänse-Essen anzubieten. \n\n\n\nZum Gänse-Essen laden wir herzlich ein. \n\n\n\nFreitag\, den 21. November 2025\, 18:00 UhrParkrestaurant RheinaueLudwig-Erhard-Straße 2053175 Bonn[Barrierefreier Zugang | Parkplätze befinden sich in der Nähe des Restaurants] \n\n\n\nWir starten mit einem Sektempfang (Sekt und Saft). Anschließend genießen wir in angenehmer Atmosphäre das Gänsegericht. \n\n\n\nDie Kostenbeiträge für den Sektempfang und das Gänse-Essen (Brust + Keule\, Soße\, Rotkohl\, Klöße\, Apfel-Chutney) betragen für Mitglieder 39\,00 €\, Gäste 44\,00 €*). Die übrigen Getränke zahlt jeder selbst. \n\n\n\n*) Der Kostenbeitrag für Mitglieder gilt auch dann\, wenn bis zum Tage der Veranstaltung die Mitgliedschaft in der Sektion Bonn beantragt wird. \n\n\n\nÖffentliche VerkehrsmittelDas Parkrestaurant Rheinaue ist mit dem Bus\, der Bahn oder der Straßenbahn zu erreichen. \n\n\n\nÖPNV-HaltestellenU-Bahn 66\, 68 bis RheinaueBus 610\, 611\, Haltestelle Parkrestaurant \n\n\n\nAnmeldungen bitte über unser Anmeldeformular oder telefonisch unter 02241 331920 bei Artur Sperling oder Carola Forst 0228 678109. \n\n\n\nWir freuen uns sehr auf einen geselligen Abend und grüßen herzlich. \n\n\n\nDer Vorstand der Eurojumelages Sektion Bonn \n\n\n\nDie Online-Anmeldung wurde geschlossen. \n\n\n\nAnmeldeformular
URL:https://www.eurojumelages-bonn.de/veranstaltung/ganse-essen-2025/
CATEGORIES:Highlight
END:VEVENT
END:VCALENDAR